Workbook

Sheet Меню
A1: Школа | B1: МАОУ ПМО СО "СОШ № 13 с УИОП" | E1: Отд./корп | I1: День | J1: 46317
A3: Прием пищи | B3: Раздел | C3: № рец. | D3: Блюдо | E3: Выход, г | F3: Цена | G3: Калорийность | H3: Белки | I3: Жиры | J3: Углеводы
A4: Завтрак | B4: =[1]Лист1!D122 -> гор.блюдо | C4: =[1]Лист1!K122 -> 234, сб.2024 | D4: =[1]Лист1!E122 -> Омлет натуральный | E4: =[1]Лист1!F122 -> 200 | F4: =[1]Лист1!L122 -> 85.53 | G4: =[1]Лист1!J122 -> 244.58568 | H4: =[1]Лист1!G122 -> 11.1 | I4: =[1]Лист1!H122 -> 11.94 | J4: =[1]Лист1!I122 -> 8.52
B5: =[1]Лист1!D123 -> гор.напиток | C5: =[1]Лист1!K123 -> 302, сб.2024 | D5: =[1]Лист1!E123 -> Чай с лимоном | E5: =[1]Лист1!F123 -> 200 | F5: =[1]Лист1!L123 -> 2.24 | G5: =[1]Лист1!J123 -> 38.47558 | H5: =[1]Лист1!G123 -> 0.25 | I5: =[1]Лист1!H123 -> 0.05 | J5: =[1]Лист1!I123 -> 13.53
B6: =[1]Лист1!D124 -> хлеб | C6: =[1]Лист1!K124 -> ТК 4/13* | D6: =[1]Лист1!E124 -> Сыр (порциями) | E6: =[1]Лист1!F124 -> 10 | F6: =[1]Лист1!L124 -> 16.36 | G6: =[1]Лист1!J124 -> 35.06 | H6: =[1]Лист1!G124 -> 1.63 | I6: =[1]Лист1!H124 -> 2.66 | J6: =[1]Лист1!I124 -> 0
B7: =[1]Лист1!D125 -> хлеб | C7: =[1]Лист1!K125 -> пром. | D7: =[1]Лист1!E125 -> Батон витаминизированный | E7: =[1]Лист1!F125 -> 30 | F7: =[1]Лист1!L125 -> 5.86 | G7: =[1]Лист1!J125 -> 80.856 | H7: =[1]Лист1!G125 -> 2.31 | I7: =[1]Лист1!H125 -> 0.43 | J7: =[1]Лист1!I125 -> 15.99
B8: =[1]Лист1!D126 -> булочное | C8: =[1]Лист1!K126 -> ТК 23/12* | D8: =[1]Лист1!E126 -> Манник | E8: =[1]Лист1!F126 -> 60 | F8: =[1]Лист1!L126 -> 10.54 | G8: =[1]Лист1!J126 -> 180.16658 | H8: =[1]Лист1!G126 -> 2.91 | I8: =[1]Лист1!H126 -> 4.62 | J8: =[1]Лист1!I126 -> 34
A9: Обед | B9: закуска | C9: ТК 19/1* | D9: Салат из свежих овощей с растительным маслом | E9: 60 | F9: 22.65 | G9: 40.525078 | H9: 0.44 | I9: 4.08 | J9: 1.93
B10: 1 блюдо | C10: 58, сб.2024 | D10: Борщ с капустой и картофелем | E10: 220 | F10: 20.28 | G10: 114.31397 | H10: 2.14 | I10: 5.43 | J10: 16.2
B11: 2 блюдо | C11: ТК 12/8* | D11: Гуляш из мяса курицы | E11: 100 | F11: 89.05 | G11: 183.719 | H11: 12.85 | I11: 12.87 | J11: 5.37
B12: гарнир | C12: 183, сб.2024 | D12: Каша гречневая рассыпчатая | E12: 155 | F12: 17.2 | G12: 231.15081 | H12: 8.31 | I12: 3.71 | J12: 46.52
B13: напиток | C13: ТТК | D13: Напиток с витаминами Витошка | E13: 200 | F13: 9.88 | G13: 70.7104 | H13: 0 | I13: 0 | J13: 18.95
B14: хлеб бел. | C14: пром. | D14: Хлеб пшеничный | E14: 40 | F14: 4.56 | G14: 98.2 | H14: 2.16 | I14: 0.4 | J14: 20.64
B15: хлеб черн. | C15: пром. | D15: Хлеб ржаной | E15: 20 | F15: 2.28 | G15: 77.352 | H15: 1.64 | I15: 0.49 | J15: 16.68
